BEGIN:VCALENDAR
VERSION:2.0
PRODID:-//jEvents 1.5 for Joomla//EN
CALSCALE:GREGORIAN
METHOD:PUBLISH
BEGIN:VEVENT

UID:464c56c8c0ec21059c09747c2e4b60da
CATEGORIES:Default
SUMMARY:Weekly Rehearsal
LOCATION:Sokol Community Center 4855 N Elston Ave Chicago, IL
DESCRIPTION;ENCODING=QUOTED-PRINTABLE:
CONTACT:773-936-8266

DTSTAMP:20260421T050003Z
DTSTART:20130207T001500Z
DTEND:20130207T030000Z
SEQUENCE:0
RRULE:FREQ=WEEKLY;UNTIL=20150204T235959Z;INTERVAL=1;BYDAY=WE
EXDATE:20131226T001500Z
TRANSP:OPAQUE
END:VEVENT
END:VCALENDAR