BEGIN:VCALENDAR
VERSION:2.0
PRODID:-//jEvents 1.5 for Joomla//EN
CALSCALE:GREGORIAN
METHOD:PUBLISH
BEGIN:VEVENT

UID:ac388d01a067646a2b1d4ef5d8dac3ed
CATEGORIES:Default
SUMMARY:Sacred Heart Church
LOCATION:Sacred Heart Church Melrose Park, IL
DESCRIPTION;ENCODING=QUOTED-PRINTABLE:<p><span style="text-decoration: underline;"><strong>Sacred Heart Church, M
 elrose Park, IL March 19, 2013 7:30pm</strong></span></p><p>      Now that 
 Singing Valentines are over, we must turn our attention to the next perform
 ances. We are appearing at Sacred Heart Church on March 19th at 7:30. We sh
 ould all be present at Wednesday rehearsals to polish our singing to make a
  good impression on the audience. Everyone be there!</p>

DTSTAMP:20260422T152051Z
DTSTART:20130319T233000Z
DTEND:20130320T035959Z
SEQUENCE:0
TRANSP:OPAQUE
END:VEVENT
END:VCALENDAR