BEGIN:VCALENDAR
VERSION:2.0
PRODID:-//jEvents 1.5 for Joomla//EN
CALSCALE:GREGORIAN
METHOD:PUBLISH
BEGIN:VEVENT

UID:bed87860e17c1681b079f4ce094dd51f
CATEGORIES:Default
SUMMARY:IL District Spring Convention
LOCATION:Washington, IL
DESCRIPTION;ENCODING=QUOTED-PRINTABLE:\n\nIllinois District Spring Convention at Washington, Illinois (near Peori
 a) on April 12-14\n\n\n      After March 19th, we have Illinois District Sp
 ring Convention at Washington, Illinois (near Peoria) on April 12-14. Our p
 resent plans are to sing "Can You Feel the Love Tonight" with the Arlington
 es, then do another number of our own choosing. This will be a chance to pe
 rform in public for a discriminating audience and get an evaluation on our 
 performance and how to improve. I hope everyone will be on board.\n

DTSTAMP:20260422T135339Z
DTSTART:20130412T200000Z
DTEND:20130414T160000Z
SEQUENCE:0
TRANSP:OPAQUE
END:VEVENT
END:VCALENDAR