BEGIN:VCALENDAR
VERSION:2.0
PRODID:-//jEvents 1.5 for Joomla//EN
CALSCALE:GREGORIAN
METHOD:PUBLISH
BEGIN:VEVENT

UID:f8a3f0e9f0e20b3e764929116dc8e67d
CATEGORIES:Default
SUMMARY:Bob Williamson Memorial Service
LOCATION:Nelson Funeral Home
DESCRIPTION;ENCODING=QUOTED-PRINTABLE:<p> </p><p><span class="Apple-style-span" style="font-family: Helvetica; -w
 ebkit-tap-highlight-color: rgba(26, 26, 26, 0.296875); -webkit-composition-
 fill-color: rgba(175, 192, 227, 0.230469); -webkit-composition-frame-color:
  rgba(77, 128, 180, 0.230469); -webkit-text-size-adjust: auto;"><span>Dear 
 Members and Friends:</span></span><span class="Apple-style-span" style="fon
 t-family: Helvetica; -webkit-tap-highlight-color: rgba(26, 26, 26, 0.296875
 ); -webkit-composition-fill-color: rgba(175, 192, 227, 0.230469); -webkit-c
 omposition-frame-color: rgba(77, 128, 180, 0.230469); -webkit-text-size-adj
 ust: auto;"><br /></span><span class="Apple-style-span" style="font-family:
  Helvetica; -webkit-tap-highlight-color: rgba(26, 26, 26, 0.296875); -webki
 t-composition-fill-color: rgba(175, 192, 227, 0.230469); -webkit-compositio
 n-frame-color: rgba(77, 128, 180, 0.230469); -webkit-text-size-adjust: auto
 ;"><span>   Bob Williamson's Wake and Memorial Service will take <a href="x
 -apple-data-detectors://0" x-apple-data-detectors="true" x-apple-data-detec
 tors-result="�">place at Nelson Funeral Home, 5149 N</a>. Ashland, Chicago 
 (at the corner of Ashland and Foster) <a href="x-apple-data-detectors://1" 
 x-apple-data-detectors="true" x-apple-data-detectors-result="1">on SUNDAY, 
 MARCH 24.</a>  The Wake will begin <a href="x-apple-data-detectors://2" x-a
 pple-data-detectors="true" x-apple-data-detectors-result="2">at 3:00</a> p.
 m, with the Memorial Service to begin <a href="x-apple-data-detectors://3" 
 x-apple-data-detectors="true" x-apple-data-detectors-result="3">at 4:00</a>
 .  Our Chapter Chorus has been asked to participate.  We will be singing "T
 his Little Light of Mine," "Let There Be Peace on Earth," "From the First H
 ello" (quartet), "Irish Blessing," and "Bill Grogan's Goat" (quartet).  </s
 pan></span><span class="Apple-style-span" style="font-family: Helvetica; -w
 ebkit-tap-highlight-color: rgba(26, 26, 26, 0.296875); -webkit-composition-
 fill-color: rgba(175, 192, 227, 0.230469); -webkit-composition-frame-color:
  rgba(77, 128, 180, 0.230469); -webkit-text-size-adjust: auto;"><br /></spa
 n><span class="Apple-style-span" style="font-family: Helvetica; -webkit-tap
 -highlight-color: rgba(26, 26, 26, 0.296875); -webkit-composition-fill-colo
 r: rgba(175, 192, 227, 0.230469); -webkit-composition-frame-color: rgba(77,
  128, 180, 0.230469); -webkit-text-size-adjust: auto;"><span>   Contrary to
  our talk at Chapter meeting last evening, the family believes that "Bill G
 rogan's Goat" would be appropriate and wanted during the service, because t
 he entire service will be a Celebration of Bob Williamson's Life and Legacy
 .  The quartet should be prepared to sing it when asked by the family.  (I 
 understand there will be a written program, and that probably will tell whe
 n "Goat" and the other songs will be sung.</span></span><span class="Apple-
 style-span" style="font-family: Helvetica; -webkit-tap-highlight-color: rgb
 a(26, 26, 26, 0.296875); -webkit-composition-fill-color: rgba(175, 192, 227
 , 0.230469); -webkit-composition-frame-color: rgba(77, 128, 180, 0.230469);
  -webkit-text-size-adjust: auto;"><br /></span><span class="Apple-style-spa
 n" style="font-family: Helvetica; -webkit-tap-highlight-color: rgba(26, 26,
  26, 0.296875); -webkit-composition-fill-color: rgba(175, 192, 227, 0.23046
 9); -webkit-composition-frame-color: rgba(77, 128, 180, 0.230469); -webkit-
 text-size-adjust: auto;"><span>   Our Chorus uniform will be black pants an
 d Chapter black shirt, with yellow tie.  If anyone does not have everything
 , call Jim Jarosz at <a href="tel:708-925-5201" x-apple-data-detectors="tru
 e" x-apple-data-detectors-result="4">708-925-5201</a>.  But don't stay away
  because you do not have the complete uniform; your presence is more import
 ant than the uniform.</span></span><span class="Apple-style-span" style="fo
 nt-family: Helvetica; -webkit-tap-highlight-color: rgba(26, 26, 26, 0.29687
 5); -webkit-composition-fill-color: rgba(175, 192, 227, 0.230469); -webkit-
 composition-frame-color: rgba(77, 128, 180, 0.230469); -webkit-text-size-ad
 just: auto;"><br /></span><span class="Apple-style-span" style="font-family
 : Helvetica; -webkit-tap-highlight-color: rgba(26, 26, 26, 0.296875); -webk
 it-composition-fill-color: rgba(175, 192, 227, 0.230469); -webkit-compositi
 on-frame-color: rgba(77, 128, 180, 0.230469); -webkit-text-size-adjust: aut
 o;"><span>   Nelson Funeral Home will have a warmup room.  Someone should a
 sk about it when you arrive.  Please be there by <a href="x-apple-data-dete
 ctors://5" x-apple-data-detectors="true" x-apple-data-detectors-result="5">
 3:30</a> to warm up your voices.  You can talk to the family and share reme
 mbrances <a href="x-apple-data-detectors://6" x-apple-data-detectors="true"
  x-apple-data-detectors-result="6">between 3:00 and 3:30</a>.</span></span>
 <span class="Apple-style-span" style="font-family: Helvetica; -webkit-tap-h
 ighlight-color: rgba(26, 26, 26, 0.296875); -webkit-composition-fill-color:
  rgba(175, 192, 227, 0.230469); -webkit-composition-frame-color: rgba(77, 1
 28, 180, 0.230469); -webkit-text-size-adjust: auto;"><br /></span><span cla
 ss="Apple-style-span" style="font-family: Helvetica; -webkit-tap-highlight-
 color: rgba(26, 26, 26, 0.296875); -webkit-composition-fill-color: rgba(175
 , 192, 227, 0.230469); -webkit-composition-frame-color: rgba(77, 128, 180, 
 0.230469); -webkit-text-size-adjust: auto;"><span>   There will be light re
 freshments after the service.  There will be an opportunity at that time fo
 r my quartet and chorus singing if you wish and if appropriate.</span></spa
 n><span class="Apple-style-span" style="font-family: Helvetica; -webkit-tap
 -highlight-color: rgba(26, 26, 26, 0.296875); -webkit-composition-fill-colo
 r: rgba(175, 192, 227, 0.230469); -webkit-composition-frame-color: rgba(77,
  128, 180, 0.230469); -webkit-text-size-adjust: auto;"><br /></span><span c
 lass="Apple-style-span" style="font-family: Helvetica; -webkit-tap-highligh
 t-color: rgba(26, 26, 26, 0.296875); -webkit-composition-fill-color: rgba(1
 75, 192, 227, 0.230469); -webkit-composition-frame-color: rgba(77, 128, 180
 , 0.230469); -webkit-text-size-adjust: auto;"><span>   If you know someone 
 who knew Bob, but may not have received this message, please send it to the
 m.</span></span><span class="Apple-style-span" style="font-family: Helvetic
 a; -webkit-tap-highlight-color: rgba(26, 26, 26, 0.296875); -webkit-composi
 tion-fill-color: rgba(175, 192, 227, 0.230469); -webkit-composition-frame-c
 olor: rgba(77, 128, 180, 0.230469); -webkit-text-size-adjust: auto;"><br />
 </span><span class="Apple-style-span" style="font-family: Helvetica; -webki
 t-tap-highlight-color: rgba(26, 26, 26, 0.296875); -webkit-composition-fill
 -color: rgba(175, 192, 227, 0.230469); -webkit-composition-frame-color: rgb
 a(77, 128, 180, 0.230469); -webkit-text-size-adjust: auto;"><span>Thanks, a
 ll.</span></span><span class="Apple-style-span" style="font-family: Helveti
 ca; -webkit-tap-highlight-color: rgba(26, 26, 26, 0.296875); -webkit-compos
 ition-fill-color: rgba(175, 192, 227, 0.230469); -webkit-composition-frame-
 color: rgba(77, 128, 180, 0.230469); -webkit-text-size-adjust: auto;"><br /
 ></span><span class="Apple-style-span" style="font-family: Helvetica; -webk
 it-tap-highlight-color: rgba(26, 26, 26, 0.296875); -webkit-composition-fil
 l-color: rgba(175, 192, 227, 0.230469); -webkit-composition-frame-color: rg
 ba(77, 128, 180, 0.230469); -webkit-text-size-adjust: auto;"><span class="A
 pple-style-span" style="font-family: Helvetica; -webkit-tap-highlight-color
 : rgba(26, 26, 26, 0.296875); -webkit-composition-fill-color: rgba(175, 192
 , 227, 0.230469); -webkit-composition-frame-color: rgba(77, 128, 180, 0.230
 469); -webkit-text-size-adjust: auto;">   Frank Schneider</span></span><br 
 /><span class="Apple-style-span" style="font-family: Helvetica; -webkit-tap
 -highlight-color: rgba(26, 26, 26, 0.296875); -webkit-composition-fill-colo
 r: rgba(175, 192, 227, 0.230469); -webkit-composition-frame-color: rgba(77,
  128, 180, 0.230469); -webkit-text-size-adjust: auto;"><span class="Apple-s
 tyle-span" style="font-family: Helvetica; -webkit-tap-highlight-color: rgba
 (26, 26, 26, 0.296875); -webkit-composition-fill-color: rgba(175, 192, 227,
  0.230469); -webkit-composition-frame-color: rgba(77, 128, 180, 0.230469); 
 -webkit-text-size-adjust: auto;"><br /></span></span><span class="Apple-sty
 le-span" style="font-family: Helvetica; -webkit-tap-highlight-color: rgba(2
 6, 26, 26, 0.296875); -webkit-composition-fill-color: rgba(175, 192, 227, 0
 .230469); -webkit-composition-frame-color: rgba(77, 128, 180, 0.230469); -w
 ebkit-text-size-adjust: auto;"><span>   </span></span><span class="Apple-st
 yle-span" style="font-family: Helvetica; -webkit-tap-highlight-color: rgba(
 26, 26, 26, 0.296875); -webkit-composition-fill-color: rgba(175, 192, 227, 
 0.230469); -webkit-composition-frame-color: rgba(77, 128, 180, 0.230469); -
 webkit-text-size-adjust: auto;"> </span></p><p><span class="Apple-style-spa
 n" style="font-family: Helvetica; -webkit-tap-highlight-color: rgba(26, 26,
  26, 0.296875); -webkit-composition-fill-color: rgba(175, 192, 227, 0.23046
 9); -webkit-composition-frame-color: rgba(77, 128, 180, 0.230469); -webkit-
 text-size-adjust: auto;"> </span></p>

DTSTAMP:20260422T151955Z
DTSTART:20130324T190000Z
DTEND:20130324T220000Z
SEQUENCE:0
TRANSP:OPAQUE
END:VEVENT
END:VCALENDAR