BEGIN:VCALENDAR
VERSION:2.0
PRODID:-//jEvents 1.5 for Joomla//EN
CALSCALE:GREGORIAN
METHOD:PUBLISH
BEGIN:VEVENT

UID:5ef83c4d294d8ba0c7300735c3f34111
CATEGORIES:Default
SUMMARY:Fermata Singout
LOCATION:Palos Heights
DESCRIPTION;ENCODING=QUOTED-PRINTABLE:

DTSTAMP:20260422T105340Z
DTSTART:20130608T050000Z
DTEND:20130608T190000Z
SEQUENCE:0
TRANSP:OPAQUE
END:VEVENT
END:VCALENDAR