BEGIN:VCALENDAR
VERSION:2.0
PRODID:-//jEvents 1.5 for Joomla//EN
CALSCALE:GREGORIAN
METHOD:PUBLISH
BEGIN:VEVENT

UID:2028413523384fac6e29661096c8d013
CATEGORIES:Default
SUMMARY:Casio Night
LOCATION:
DESCRIPTION;ENCODING=QUOTED-PRINTABLE:

DTSTAMP:20260422T074730Z
DTSTART:20130820T160000Z
DTEND:20130821T030000Z
SEQUENCE:0
TRANSP:OPAQUE
END:VEVENT
END:VCALENDAR