BEGIN:VCALENDAR
VERSION:2.0
PRODID:-//jEvents 1.5 for Joomla//EN
CALSCALE:GREGORIAN
METHOD:PUBLISH
BEGIN:VEVENT

UID:8f2eed163ba4bbe6d74d6b4a4abbce05
CATEGORIES:Default
SUMMARY:Open House 
LOCATION:4855 N Elston Chicago, IL
DESCRIPTION;ENCODING=QUOTED-PRINTABLE:<p>Open House 7:30 pm to 10:00 pm at the Sokol Community Center.</p>
CONTACT:John Q 312-493-0055

DTSTAMP:20260422T060056Z
DTSTART:20131009T233000Z
DTEND:20131010T020000Z
SEQUENCE:0
TRANSP:OPAQUE
END:VEVENT
END:VCALENDAR