BEGIN:VCALENDAR
VERSION:2.0
PRODID:-//jEvents 1.5 for Joomla//EN
CALSCALE:GREGORIAN
METHOD:PUBLISH
BEGIN:VEVENT

UID:624099b5bdc8065a035013a89b4876e6
CATEGORIES:Default
SUMMARY:Sinnging Valentines
LOCATION:Chicago Land
DESCRIPTION;ENCODING=QUOTED-PRINTABLE:\n\n\n
CONTACT:312-493-0055

DTSTAMP:20260421T010124Z
DTSTART:20150213
DTEND:20150213
SEQUENCE:0
RRULE:FREQ=DAILY;UNTIL=20150214T235959Z;INTERVAL=1
TRANSP:OPAQUE
END:VEVENT
END:VCALENDAR