BEGIN:VCALENDAR
VERSION:2.0
PRODID:-//jEvents 1.5 for Joomla//EN
CALSCALE:GREGORIAN
METHOD:PUBLISH
BEGIN:VEVENT

UID:dca6c4f24f6f3d1192917f34c8ce2268
CATEGORIES:Default
SUMMARY:Novice Quartet Contest
LOCATION:St Peters Church Sokie
DESCRIPTION;ENCODING=QUOTED-PRINTABLE:\n\n\n
CONTACT:Gerry Carol

DTSTAMP:20260421T030943Z
DTSTART:20150321T170000Z
DTEND:20150321T210000Z
SEQUENCE:0
TRANSP:OPAQUE
END:VEVENT
END:VCALENDAR