BEGIN:VCALENDAR
VERSION:2.0
PRODID:-//jEvents 1.5 for Joomla//EN
CALSCALE:GREGORIAN
METHOD:PUBLISH
BEGIN:VEVENT

UID:1e34a41f2992fa065ed828e93b483896
CATEGORIES:Default
SUMMARY:Holiday Open House
LOCATION:4855 N Elston Ave
DESCRIPTION;ENCODING=QUOTED-PRINTABLE:\n\nCHICAGO METRO CHORUS\nHOLIDAY OPEN HOUSE AND SING ALONG\nWednesday Dece
 mber 2nd\n7:30pm - 10:00 pm at the\nSokol Community Center\n4855 N Elston C
 hicago\nOne block from the corner of \nLawrence and Elston.\nCall John Q 31
 2-493-0055\n
CONTACT:John Q Morris

DTSTAMP:20260420T145716Z
DTSTART:20151203T003000Z
DTEND:20151203T030000Z
SEQUENCE:0
TRANSP:OPAQUE
END:VEVENT
END:VCALENDAR