BEGIN:VCALENDAR
VERSION:2.0
PRODID:-//jEvents 1.5 for Joomla//EN
CALSCALE:GREGORIAN
METHOD:PUBLISH
BEGIN:VEVENT

UID:ad68f041d15237ab13e2b3699b2d4a92
CATEGORIES:Default
SUMMARY:Sing Out at Whole Foods Sagnanash
LOCATION:6020 N Cicero Ave, Chicago, IL 60646 
DESCRIPTION;ENCODING=QUOTED-PRINTABLE:

DTSTAMP:20260420T145832Z
DTSTART:20151205T160000Z
DTEND:20151205T190000Z
SEQUENCE:0
TRANSP:OPAQUE
END:VEVENT
END:VCALENDAR