BEGIN:VCALENDAR
VERSION:2.0
PRODID:-//jEvents 1.5 for Joomla//EN
CALSCALE:GREGORIAN
METHOD:PUBLISH
BEGIN:VEVENT

UID:eb03d3cb18d4337ea6271c1152281f01
CATEGORIES:Default
SUMMARY:Open House
LOCATION:4855 N Elston Ave Chicago, IL
DESCRIPTION;ENCODING=QUOTED-PRINTABLE:\n\nWhere do you sing? Come join us for a wonderful time of brotherhood and
  harmony.\n
CONTACT:John Q

DTSTAMP:20260420T035325Z
DTSTART:20160204T003000Z
DTEND:20180104T030000Z
SEQUENCE:0
RRULE:FREQ=MONTHLY;UNTIL=20170201T235959Z;INTERVAL=1;BYDAY=+1WE
EXDATE:20160406T233000Z
TRANSP:OPAQUE
END:VEVENT
END:VCALENDAR