BEGIN:VCALENDAR
VERSION:2.0
PRODID:-//jEvents 1.5 for Joomla//EN
CALSCALE:GREGORIAN
METHOD:PUBLISH
BEGIN:VEVENT

UID:e4ee406e6c67ca0775d705c128f432be
CATEGORIES:Default
SUMMARY:Singing Valentines
LOCATION:Chicago Metro
DESCRIPTION;ENCODING=QUOTED-PRINTABLE:\n\nWant to do something out of the ordinary for the special someone in you
 r life? Send them a Singing Telegram for Valentines Day. It's never too ear
 ly to start planning for this fun gift. We will be delivering Singing Teleg
 rams throughout the day from Feb 12th to the 14th.\n\n\n$40 Package include
 s:\n Two Love Songs ( Performed Live ) delivered in 8 hour window\n Persona
 l Greeting Card\n A beautiful Red Rose\n Deliveries available February 12, 
 13 and 14\n Order yours today! Call: 312-493-0055 or\n E-mail: info@chicago
 metrochorus.com\n
CONTACT:John Q

DTSTAMP:20260420T120706Z
DTSTART:20160212T130000Z
DTEND:20160213T010000Z
SEQUENCE:0
RRULE:FREQ=DAILY;COUNT=3;INTERVAL=1
TRANSP:OPAQUE
END:VEVENT
END:VCALENDAR