BEGIN:VCALENDAR
VERSION:2.0
PRODID:-//jEvents 1.5 for Joomla//EN
CALSCALE:GREGORIAN
METHOD:PUBLISH
BEGIN:VEVENT

UID:0ee1184c9656404210bd8e3368ce86bc
CATEGORIES:Default
SUMMARY:Singout Scared Heart Church
LOCATION: 815 N 16th Ave  Melrose Park, IL
DESCRIPTION;ENCODING=QUOTED-PRINTABLE:
CONTACT:John Q Morris 312-493-0055
X-EXTRAINFO: N 15th Ave & Iowa St  Melrose Park, IL   
DTSTAMP:20260420T104412Z
DTSTART:20160322T223000Z
DTEND:20160323T000000Z
SEQUENCE:0
TRANSP:OPAQUE
END:VEVENT
END:VCALENDAR