BEGIN:VCALENDAR
VERSION:2.0
PRODID:-//jEvents 1.5 for Joomla//EN
CALSCALE:GREGORIAN
METHOD:PUBLISH
BEGIN:VEVENT

UID:5bb390dbbba6d463e3ca27dccb2d3ad2
CATEGORIES:Default
SUMMARY:Singout Presence Villa Scalabrini Nursing And Rehabilitation Center
LOCATION: 480 N Wolf Rd  Northlake, IL
DESCRIPTION;ENCODING=QUOTED-PRINTABLE:
CONTACT:John Q Morris 312-493-0055
X-EXTRAINFO:Actual sing out time 12:30 to 1:30
DTSTAMP:20260420T104441Z
DTSTART:20160324T160000Z
DTEND:20160324T180000Z
SEQUENCE:0
TRANSP:OPAQUE
END:VEVENT
END:VCALENDAR