BEGIN:VCALENDAR
VERSION:2.0
PRODID:-//jEvents 1.5 for Joomla//EN
CALSCALE:GREGORIAN
METHOD:PUBLISH
BEGIN:VEVENT

UID:9e1aef3c7ca708c42f6a8a0ca631949a
CATEGORIES:Default
SUMMARY:Casino Night 
LOCATION:5300 West Touhy Ave Skokie, IL 60077 
DESCRIPTION;ENCODING=QUOTED-PRINTABLE:

DTSTAMP:20260420T120638Z
DTSTART:20160229T190000Z
DTEND:20160301T045900Z
SEQUENCE:0
TRANSP:OPAQUE
END:VEVENT
END:VCALENDAR