BEGIN:VCALENDAR
VERSION:2.0
PRODID:-//jEvents 1.5 for Joomla//EN
CALSCALE:GREGORIAN
METHOD:PUBLISH
BEGIN:VEVENT

UID:a6a5c9e90fe45a46030525e257b49962
CATEGORIES:Default
SUMMARY:Board Meeting
LOCATION:Kendall's
DESCRIPTION;ENCODING=QUOTED-PRINTABLE:
CONTACT:John Q 312-493-0055

DTSTAMP:20260420T104411Z
DTSTART:20160309T003000Z
DTEND:20160309T020000Z
SEQUENCE:0
TRANSP:OPAQUE
END:VEVENT
END:VCALENDAR