BEGIN:VCALENDAR
VERSION:2.0
PRODID:-//jEvents 1.5 for Joomla//EN
CALSCALE:GREGORIAN
METHOD:PUBLISH
BEGIN:VEVENT

UID:d3889bc6c87dff74ad902073002f4abe
CATEGORIES:Default
SUMMARY:North Side irish Parade
LOCATION:Northwest Highway
DESCRIPTION;ENCODING=QUOTED-PRINTABLE:<p>Northwest Side Irish Parade Parade Chicago IL 60631.<br /> <br /> The No
 rthwest Side Irish Parade is a "celebration of faith, family, and heritage"
  on the Northwest side of Chicago, Illinois. The parade has numerous entrie
 s including bagpipe bands, marching bands, local businesses and organizatio
 ns, politicians, Leprechauns, area police and fire vehicles, floats, Irish 
 Dancers, charities and much more. <span data-mce-bogus="1" id="_mce_caret">
 <span data-mce-bogus="1" style="font-size: 12pt;"></span></span></p>
CONTACT:John Q 312-493-0055
X-EXTRAINFO:Parade begins at 12:00pm Starting point is theOnahan School it will run sou
 th on Neola to Northwest Highway, north on Northwest Highway ending at Harl
 em Ave
DTSTAMP:20260420T104545Z
DTSTART:20160313T120000Z
DTEND:20160313T210000Z
SEQUENCE:0
TRANSP:OPAQUE
END:VEVENT
END:VCALENDAR