BEGIN:VCALENDAR
VERSION:2.0
PRODID:-//jEvents 1.5 for Joomla//EN
CALSCALE:GREGORIAN
METHOD:PUBLISH
BEGIN:VEVENT

UID:c0a6f07f2e4b05514886b815a2aa9a3c
CATEGORIES:Default
SUMMARY:Rehearsal Sokol Community Lower Level
LOCATION:4855 N Elston Ave
DESCRIPTION;ENCODING=QUOTED-PRINTABLE:
CONTACT:John Q 312-493-0055

DTSTAMP:20260420T092543Z
DTSTART:20160406T233000Z
DTEND:20160407T020000Z
SEQUENCE:0
TRANSP:OPAQUE
END:VEVENT
END:VCALENDAR