BEGIN:VCALENDAR
VERSION:2.0
PRODID:-//jEvents 1.5 for Joomla//EN
CALSCALE:GREGORIAN
METHOD:PUBLISH
BEGIN:VEVENT

UID:61fe23a2254045c6b992c6f2dbcce3b8
CATEGORIES:Default
SUMMARY:Rehearsal Sokol Community Center  Lower Level 
LOCATION:4855 N Elston Ave
DESCRIPTION;ENCODING=QUOTED-PRINTABLE:
CONTACT:John Q 312-493-0055

DTSTAMP:20260420T080937Z
DTSTART:20160511T233000Z
DTEND:20160512T020000Z
SEQUENCE:0
RRULE:FREQ=WEEKLY;COUNT=4;INTERVAL=1;BYDAY=WE
EXDATE:20160601T233000Z
TRANSP:OPAQUE
END:VEVENT
END:VCALENDAR