BEGIN:VCALENDAR
VERSION:2.0
PRODID:-//jEvents 1.5 for Joomla//EN
CALSCALE:GREGORIAN
METHOD:PUBLISH
BEGIN:VEVENT

UID:e7f5607e6bd84266b9a7d6ce956459b9
CATEGORIES:Default
SUMMARY:Rehearsal Sokol Community Center  Lower Level 
LOCATION:4855 N Elston Ave
DESCRIPTION;ENCODING=QUOTED-PRINTABLE:
CONTACT:John Q 312-493-0055

DTSTAMP:20260420T064641Z
DTSTART:20160608T233000Z
DTEND:20160609T020000Z
SEQUENCE:0
RRULE:FREQ=WEEKLY;COUNT=4;INTERVAL=1;BYDAY=WE
TRANSP:OPAQUE
END:VEVENT
END:VCALENDAR