BEGIN:VCALENDAR
VERSION:2.0
PRODID:-//jEvents 1.5 for Joomla//EN
CALSCALE:GREGORIAN
METHOD:PUBLISH
BEGIN:VEVENT

UID:d80f148fc17167c470922f1c8b9daf01
CATEGORIES:Default
SUMMARY:43 Ward Sing Out
LOCATION:2111 North Halsted  Chicago, IL     
DESCRIPTION;ENCODING=QUOTED-PRINTABLE:<p>Date:  June 10 Time 2p-4p Barbershop Quartet Time:  2:30-3:30</p>
CONTACT:  Terri Silverstone terrisilverstone@gmail.com  Home: 312/642-5647  Mobile: 312/859-9668

DTSTAMP:20260420T064524Z
DTSTART:20160610T180000Z
DTEND:20160610T200000Z
SEQUENCE:0
TRANSP:OPAQUE
END:VEVENT
END:VCALENDAR