BEGIN:VCALENDAR
VERSION:2.0
PRODID:-//jEvents 1.5 for Joomla//EN
CALSCALE:GREGORIAN
METHOD:PUBLISH
BEGIN:VEVENT

UID:3a7f5e33e5368a8f08aebab48beb38a6
CATEGORIES:Default
SUMMARY:casino Night
LOCATION:1000 Busse Road, Elk Grove Village, IL Holiday Inn, 1000 Busse Road, Elk Gr
 ove Village, IL Holiday Inn
DESCRIPTION;ENCODING=QUOTED-PRINTABLE:<div class="yiv3840687670" id="yiv3840687670yui_3_16_0_ym19_1_1464094585316
 _13156"><b class="yiv3840687670" id="yui_3_16_0_ym19_1_1464196463683_3582">
 June 21 - Casino 1:45 - midnight:  </b>  This is a different Holiday Inn fr
 om the one we were at the last two times.  Please sign up and come over for
  a shift during the afternoon or evening.  We need five people especially w
 hen we open at 2:00 to take money and give chips.  This is an important mon
 ey maker which allows our Chapter to rent a place and hire a director.  Eve
 ryone can help.</div>
X-EXTRAINFO:Rt.83 and Landmeier Road). 
DTSTAMP:20260420T064657Z
DTSTART:20160621T174500Z
DTEND:20160622T035900Z
SEQUENCE:0
TRANSP:OPAQUE
END:VEVENT
END:VCALENDAR