BEGIN:VCALENDAR
VERSION:2.0
PRODID:-//jEvents 1.5 for Joomla//EN
CALSCALE:GREGORIAN
METHOD:PUBLISH
BEGIN:VEVENT

UID:f8aadef11320240ec483c3bd43ca35e8
CATEGORIES:Default
SUMMARY:Chorus BBQ and Picnic
LOCATION:5941 N. McCook, Chicago
DESCRIPTION;ENCODING=QUOTED-PRINTABLE: August 6 - 3:00 - ???.  Chapter picnic at Ron Ryder’s, .  Bring yourself, 
 your guest and something to share.
CONTACT:Ron Ryder 773-775-8826

DTSTAMP:20260420T035313Z
DTSTART:20160806T190000Z
DTEND:20160807T030000Z
SEQUENCE:0
TRANSP:OPAQUE
END:VEVENT
END:VCALENDAR