BEGIN:VCALENDAR
VERSION:2.0
PRODID:-//jEvents 1.5 for Joomla//EN
CALSCALE:GREGORIAN
METHOD:PUBLISH
BEGIN:VEVENT

UID:18e3e41b81eeb42fbf7d68b7dcec4f4e
CATEGORIES:Default
SUMMARY:Fall Convention and Contest
LOCATION:Bloomington, IL
DESCRIPTION;ENCODING=QUOTED-PRINTABLE:September 23-25 - Fall Convention at Bloomington.  Our Chorus is planning t
 o compete on Saturday, but you should come for the entire weekend.  It will
  be fun, and you will have chances to listen to and sing with really good q
 uartets.  \n

DTSTAMP:20260420T035218Z
DTSTART:20160923T200000Z
DTEND:20160925T150000Z
SEQUENCE:0
TRANSP:OPAQUE
END:VEVENT
END:VCALENDAR