BEGIN:VCALENDAR
VERSION:2.0
PRODID:-//jEvents 1.5 for Joomla//EN
CALSCALE:GREGORIAN
METHOD:PUBLISH
BEGIN:VEVENT

UID:689481e9d6675d105f435711015a8b41
CATEGORIES:Default
SUMMARY:Fall Program
LOCATION:St. Peter’s Church, Skokie
DESCRIPTION;ENCODING=QUOTED-PRINTABLE:<p>This is a chance for our Chorus and Quartets to perform and show what we
  have learned this year.  As usual, we will need help with advertising, sel
 ling tickets, setting up the site, organizing the performances and, yes, si
 nging, too.  We look forward to the event.</p>

DTSTAMP:20260420T010731Z
DTSTART:20161022T180000Z
DTEND:20161022T210000Z
SEQUENCE:0
TRANSP:OPAQUE
END:VEVENT
END:VCALENDAR