BEGIN:VCALENDAR
VERSION:2.0
PRODID:-//jEvents 1.5 for Joomla//EN
CALSCALE:GREGORIAN
METHOD:PUBLISH
BEGIN:VEVENT

UID:eb03d3cb18d4337ea6271c1152281f01
CATEGORIES:Default
SUMMARY:Open House
LOCATION:4855 N Elston Ave Chicago, IL
DESCRIPTION;ENCODING=QUOTED-PRINTABLE:<p>Where do you sing? Come join us for a wonderful time of brotherhood and 
 harmony.</p>
CONTACT:John Q

DTSTAMP:20260420T051534Z
DTSTART:20160706T233000Z
DTEND:20180607T020000Z
SEQUENCE:0
TRANSP:OPAQUE
END:VEVENT
END:VCALENDAR