BEGIN:VCALENDAR
VERSION:2.0
PRODID:-//jEvents 1.5 for Joomla//EN
CALSCALE:GREGORIAN
METHOD:PUBLISH
BEGIN:VEVENT

UID:eb03d3cb18d4337ea6271c1152281f01
CATEGORIES:Default
SUMMARY:Open House
LOCATION:4855 N Elston Ave Chicago, IL
DESCRIPTION;ENCODING=QUOTED-PRINTABLE:\n\nWhere do you sing? Come join us for a wonderful time of brotherhood and
  harmony.\n
CONTACT:John Q

DTSTAMP:20260419T232958Z
DTSTART:20161102T233000Z
DTEND:20181004T020000Z
SEQUENCE:0
TRANSP:OPAQUE
END:VEVENT
END:VCALENDAR