BEGIN:VCALENDAR
VERSION:2.0
PRODID:-//jEvents 1.5 for Joomla//EN
CALSCALE:GREGORIAN
METHOD:PUBLISH
BEGIN:VEVENT

UID:ebe1ab79aeeb996bf62615a9b7c18150
CATEGORIES:Default
SUMMARY:Rehersal Sokol Lower Level
LOCATION:
DESCRIPTION;ENCODING=QUOTED-PRINTABLE:

DTSTAMP:20260420T104356Z
DTSTART:20160323T233000Z
DTEND:20160324T020000Z
SEQUENCE:0
TRANSP:OPAQUE
END:VEVENT
END:VCALENDAR