BEGIN:VCALENDAR
VERSION:2.0
PRODID:-//jEvents 1.5 for Joomla//EN
CALSCALE:GREGORIAN
METHOD:PUBLISH
BEGIN:VEVENT

UID:30407f803dbcbacf5c8d315a57b212c3
CATEGORIES:Default
SUMMARY:Open House
LOCATION:4855 N Elston Ave
DESCRIPTION;ENCODING=QUOTED-PRINTABLE:
CONTACT:John Q 312-493-0055

DTSTAMP:20260420T092404Z
DTSTART:20160413T233000Z
DTEND:20160414T020000Z
SEQUENCE:0
TRANSP:OPAQUE
END:VEVENT
END:VCALENDAR