BEGIN:VCALENDAR
VERSION:2.0
PRODID:-//jEvents 1.5 for Joomla//EN
CALSCALE:GREGORIAN
METHOD:PUBLISH
BEGIN:VEVENT

UID:e7f5607e6bd84266b9a7d6ce956459b9
CATEGORIES:Default
SUMMARY:Rehearsal Sokol Community Center  Lower Level 
LOCATION:4855 N Elston Ave
DESCRIPTION;ENCODING=QUOTED-PRINTABLE:
CONTACT:John Q 312-493-0055

DTSTAMP:20260420T080721Z
DTSTART:20160615T233000Z
DTEND:20160616T020000Z
SEQUENCE:0
TRANSP:OPAQUE
END:VEVENT
END:VCALENDAR